BEGIN:VCALENDAR
VERSION:2.0
PRODID:-//jEvents 2.0 for Joomla//EN
CALSCALE:GREGORIAN
METHOD:PUBLISH
BEGIN:VTIMEZONE
TZID:America/Chicago
BEGIN:STANDARD
DTSTART:20250122T193000
RDATE:20250309T030000
TZOFFSETFROM:-0500
TZOFFSETTO:-0600
TZNAME:America/Chicago CST
END:STANDARD
BEGIN:STANDARD
DTSTART:20251102T010000
RDATE:20260308T030000
TZOFFSETFROM:-0500
TZOFFSETTO:-0600
TZNAME:America/Chicago CST
END:STANDARD
BEGIN:STANDARD
DTSTART:20261101T010000
RDATE:20270314T030000
TZOFFSETFROM:-0500
TZOFFSETTO:-0600
TZNAME:America/Chicago CST
END:STANDARD
BEGIN:DAYLIGHT
DTSTART:20250309T030000
RDATE:20251102T010000
TZOFFSETFROM:-0600
TZOFFSETTO:-0500
TZNAME:America/Chicago CDT
END:DAYLIGHT
BEGIN:DAYLIGHT
DTSTART:20260308T030000
RDATE:20261101T010000
TZOFFSETFROM:-0600
TZOFFSETTO:-0500
TZNAME:America/Chicago CDT
END:DAYLIGHT
END:VTIMEZONE
BEGIN:VEVENT
UID:10046892-361638208
CATEGORIES:Freshman
CREATED:20260123T040019
SUMMARY:Freshmen - Practice
LOCATION:181 Coeur De Ville Dr, Creve Coeur, MO 63141
DESCRIPTION;ENCODING=QUOTED-PRINTABLE:Location: Parkway Northeast Middle School\n   (Arrival Time:  7:30 PM (Cent
 ral Time (US & Canada))) 
DTSTAMP:20260424T115948Z
DTSTART;TZID=America/Chicago:20260123T193000
DTEND;TZID=America/Chicago:20260123T213000
SEQUENCE:2
TRANSP:OPAQUE
END:VEVENT
END:VCALENDAR