BEGIN:VCALENDAR
VERSION:2.0
PRODID:-//jEvents 2.0 for Joomla//EN
CALSCALE:GREGORIAN
METHOD:PUBLISH
BEGIN:VTIMEZONE
TZID:America/Chicago
BEGIN:STANDARD
DTSTART:20210310T205000
RDATE:20210314T030000
TZOFFSETFROM:-0500
TZOFFSETTO:-0600
TZNAME:America/Chicago CST
END:STANDARD
BEGIN:STANDARD
DTSTART:20211107T010000
RDATE:20220313T030000
TZOFFSETFROM:-0500
TZOFFSETTO:-0600
TZNAME:America/Chicago CST
END:STANDARD
BEGIN:STANDARD
DTSTART:20221106T010000
RDATE:20230312T030000
TZOFFSETFROM:-0500
TZOFFSETTO:-0600
TZNAME:America/Chicago CST
END:STANDARD
BEGIN:STANDARD
DTSTART:20231105T010000
RDATE:20240310T030000
TZOFFSETFROM:-0500
TZOFFSETTO:-0600
TZNAME:America/Chicago CST
END:STANDARD
BEGIN:STANDARD
DTSTART:20241103T010000
RDATE:20250309T030000
TZOFFSETFROM:-0500
TZOFFSETTO:-0600
TZNAME:America/Chicago CST
END:STANDARD
BEGIN:STANDARD
DTSTART:20251102T010000
RDATE:20260308T030000
TZOFFSETFROM:-0500
TZOFFSETTO:-0600
TZNAME:America/Chicago CST
END:STANDARD
BEGIN:STANDARD
DTSTART:20261101T010000
RDATE:20270314T030000
TZOFFSETFROM:-0500
TZOFFSETTO:-0600
TZNAME:America/Chicago CST
END:STANDARD
BEGIN:DAYLIGHT
DTSTART:20210314T030000
RDATE:20211107T010000
TZOFFSETFROM:-0600
TZOFFSETTO:-0500
TZNAME:America/Chicago CDT
END:DAYLIGHT
BEGIN:DAYLIGHT
DTSTART:20220313T030000
RDATE:20221106T010000
TZOFFSETFROM:-0600
TZOFFSETTO:-0500
TZNAME:America/Chicago CDT
END:DAYLIGHT
BEGIN:DAYLIGHT
DTSTART:20230312T030000
RDATE:20231105T010000
TZOFFSETFROM:-0600
TZOFFSETTO:-0500
TZNAME:America/Chicago CDT
END:DAYLIGHT
BEGIN:DAYLIGHT
DTSTART:20240310T030000
RDATE:20241103T010000
TZOFFSETFROM:-0600
TZOFFSETTO:-0500
TZNAME:America/Chicago CDT
END:DAYLIGHT
BEGIN:DAYLIGHT
DTSTART:20250309T030000
RDATE:20251102T010000
TZOFFSETFROM:-0600
TZOFFSETTO:-0500
TZNAME:America/Chicago CDT
END:DAYLIGHT
BEGIN:DAYLIGHT
DTSTART:20260308T030000
RDATE:20261101T010000
TZOFFSETFROM:-0600
TZOFFSETTO:-0500
TZNAME:America/Chicago CDT
END:DAYLIGHT
END:VTIMEZONE
BEGIN:VEVENT
UID:b678abafce217a500860d52beac894d4
CATEGORIES:Other
CREATED:20220311T163007
SUMMARY:Varsity vs. Alumni- picture and game
DESCRIPTION;ENCODING=QUOTED-PRINTABLE:<p><span style="font-size: 14pt; color: #ff0000;">8:50 - <span id="yiv22794
 11784ydp60cb7fdayiv9271852059ydpe8767353yiv8990262560ydpb96050b4yiv70326002
 43ydp854d7790yiv5812178622ydp6fbb0bf7yiv1160527378ydp30599e22yiv1064531817y
 dpd2ca5951yiv7005139509ydp8809a56eyiv4038418595ydp89343bd3yiv2570422701ydp6
 8df1680yiv9208019367ydpc3c0dec6yiv6813626930ydp7aa1adbcyiv9983116885ydp71f8
 3e7cyiv8735330584ydpeb93fc7eyiv0946078455m_4193425070305439776ydp16ab7834yi
 v5151524466ydpeb1cdc41yiv8524601088ydpf13e729yiv7063729280ydp1686efdyiv5273
 504304yui_3_16_0_ym19_1_1520915308151_17822"><span id="yiv2279411784ydp60cb
 7fdayiv9271852059ydpe8767353yiv8990262560ydpb96050b4yiv7032600243ydp854d779
 0yiv5812178622ydp6fbb0bf7yiv1160527378ydp30599e22yiv1064531817ydpd2ca5951yi
 v7005139509ydp8809a56eyiv4038418595ydp89343bd3yiv2570422701ydp68df1680yiv92
 08019367ydpc3c0dec6yiv6813626930ydp7aa1adbcyiv9983116885ydp71f83e7cyiv87353
 30584ydpeb93fc7eyiv0946078455m_4193425070305439776ydp16ab7834yiv5151524466y
 dpeb1cdc41yiv8524601088ydpf13e729yiv7063729280ydp1686efdyiv5273504304yui_3_
 16_0_ym19_1_1520915308151_17823"><span id="yiv2279411784ydp60cb7fdayiv92718
 52059ydpe8767353yiv8990262560ydpb96050b4yiv7032600243ydp854d7790yiv58121786
 22ydp6fbb0bf7yiv1160527378ydp30599e22yiv1064531817ydpd2ca5951yiv7005139509y
 dp8809a56eyiv4038418595ydp89343bd3yiv2570422701ydp68df1680yiv9208019367ydpc
 3c0dec6yiv6813626930ydp7aa1adbcyiv9983116885ydp71f83e7cyiv8735330584ydpeb93
 fc7eyiv0946078455m_4193425070305439776ydp16ab7834yiv5151524466ydpeb1cdc41yi
 v8524601088ydpf13e729yiv7063729280ydp1686efdyiv5273504304yui_3_16_0_ym19_1_
 1520915308151_17824"> <span id="yiv2279411784ydp60cb7fdayiv9271852059ydpe87
 67353yiv8990262560ydpb96050b4yiv7032600243ydp854d7790yiv5812178622ydp6fbb0b
 f7yiv1160527378ydp30599e22yiv1064531817ydpd2ca5951yiv7005139509ydp8809a56ey
 iv4038418595ydp89343bd3yiv2570422701ydp68df1680yiv9208019367ydpc3c0dec6yiv6
 813626930ydp7aa1adbcyiv9983116885ydp71f83e7cyiv8735330584ydpeb93fc7eyiv0946
 078455m_4193425070305439776ydp16ab7834yiv5151524466ydpeb1cdc41yiv8524601088
 ydpf13e729yiv7063729280ydp1686efdyiv5273504304yui_3_16_0_ym19_1_15209153081
 51_17828"><span id="yiv2279411784ydp60cb7fdayiv9271852059ydpe8767353yiv8990
 262560ydpb96050b4yiv7032600243ydp854d7790yiv5812178622ydp6fbb0bf7yiv1160527
 378ydp30599e22yiv1064531817ydpd2ca5951yiv7005139509ydp8809a56eyiv4038418595
 ydp89343bd3yiv2570422701ydp68df1680yiv9208019367ydpc3c0dec6yiv6813626930ydp
 7aa1adbcyiv9983116885ydp71f83e7cyiv8735330584ydpeb93fc7eyiv0946078455m_4193
 425070305439776ydp16ab7834yiv5151524466ydpeb1cdc41yiv8524601088ydpf13e729yi
 v7063729280ydp1686efdyiv5273504304yui_3_16_0_ym19_1_1520915308151_17831"><s
 pan id="yiv2279411784ydp60cb7fdayiv9271852059ydpe8767353yiv8990262560ydpb96
 050b4yiv7032600243ydp854d7790yiv5812178622ydp6fbb0bf7yiv1160527378ydp30599e
 22yiv1064531817ydpd2ca5951yiv7005139509ydp8809a56eyiv4038418595ydp89343bd3y
 iv2570422701ydp68df1680yiv9208019367ydpc3c0dec6yiv6813626930ydp7aa1adbcyiv9
 983116885ydp71f83e7cyiv8735330584ydpeb93fc7eyiv0946078455m_4193425070305439
 776ydp16ab7834yiv5151524466ydpeb1cdc41yiv8524601088ydpf13e729yiv7063729280y
 dp1686efdyiv5273504304yui_3_16_0_ym19_1_1520915308151_17832">Varsity vs. Al
 umni- picture and game</span></span></span></span></span></span></span></p>
DTSTAMP:20260419T070718Z
DTSTART;TZID=America/Chicago:20220311T205000
SEQUENCE:0
TRANSP:OPAQUE
END:VEVENT
END:VCALENDAR